BEGIN:VCALENDAR
VERSION:2.0
PRODID:-//Jackson Heights SDA Church | More than 50 years serving the Jackson Heights Community - ECPv6.15.20//NONSGML v1.0//EN
CALSCALE:GREGORIAN
METHOD:PUBLISH
X-ORIGINAL-URL:https://jacksonheightssda.org
X-WR-CALDESC:Events for Jackson Heights SDA Church | More than 50 years serving the Jackson Heights Community
REFRESH-INTERVAL;VALUE=DURATION:PT1H
X-Robots-Tag:noindex
X-PUBLISHED-TTL:PT1H
BEGIN:VTIMEZONE
TZID:UTC
BEGIN:STANDARD
TZOFFSETFROM:+0000
TZOFFSETTO:+0000
TZNAME:UTC
DTSTART:20230101T000000
END:STANDARD
END:VTIMEZONE
BEGIN:VEVENT
DTSTART;TZID=UTC:20241207T110000
DTEND;TZID=UTC:20241207T130000
DTSTAMP:20260422T172826
CREATED:20241121T074835Z
LAST-MODIFIED:20241122T152821Z
UID:790105-1733569200-1733576400@jacksonheightssda.org
SUMMARY:Communion
DESCRIPTION:
URL:https://jacksonheightssda.org/event/communion/
CATEGORIES:Communion
ATTACH;FMTTYPE=image/jpeg:https://jacksonheightssda.org/wp-content/uploads/2024/11/painted_spring_communion-Standard-4x3-1.jpg
END:VEVENT
END:VCALENDAR